BEGIN:VCALENDAR
VERSION:2.0
PRODID:-//tahlequahhabitat.org//NONSGML kigkonsult.se iCalcreator 2.30.10//
CALSCALE:GREGORIAN
METHOD:PUBLISH
UID:ecc9a37c-ab54-4098-b952-1af7d9e9d0e0
X-WR-CALDESC:
X-WR-RELCALID:875ce078873704dcdffc60facea87d05
X-WR-TIMEZONE:America/Chicago
BEGIN:VTIMEZONE
TZID:America/Chicago
BEGIN:STANDARD
TZNAME:CST
DTSTART:20241103T020000
TZOFFSETFROM:-0500
TZOFFSETTO:-0600
RDATE:20251102T020000
RDATE:20261101T020000
END:STANDARD
BEGIN:DAYLIGHT
TZNAME:CDT
DTSTART:20250309T020000
TZOFFSETFROM:-0600
TZOFFSETTO:-0500
RDATE:20260308T020000
END:DAYLIGHT
END:VTIMEZONE
BEGIN:VEVENT
UID:1a12ffd0-8148-437b-9e18-f138831fda03
DTSTAMP:20260421T121011Z
DESCRIPTION:
DTSTART;TZID=America/Chicago:20250802T090000
DTEND;TZID=America/Chicago:20250802T180000
LOCATION:
SUMMARY:Back-to-School Haircuts Today at the Cherokee County Livestock Aren
 a
END:VEVENT
END:VCALENDAR
