BEGIN:VCALENDAR
VERSION:2.0
PRODID:-//tahlequahhabitat.org//NONSGML kigkonsult.se iCalcreator 2.30.10//
CALSCALE:GREGORIAN
METHOD:PUBLISH
UID:7e0b14ea-e583-4053-95d5-f09c3113daf4
X-WR-CALDESC:
X-WR-RELCALID:3d4a9a908dc697f996e2ee157661a3b9
X-WR-TIMEZONE:America/Chicago
BEGIN:VTIMEZONE
TZID:America/Chicago
BEGIN:STANDARD
TZNAME:CST
DTSTART:20241103T020000
TZOFFSETFROM:-0500
TZOFFSETTO:-0600
RDATE:20251102T020000
RDATE:20261101T020000
END:STANDARD
BEGIN:DAYLIGHT
TZNAME:CDT
DTSTART:20250309T020000
TZOFFSETFROM:-0600
TZOFFSETTO:-0500
RDATE:20260308T020000
END:DAYLIGHT
END:VTIMEZONE
BEGIN:VEVENT
UID:881680a4-a4bf-44d0-9545-832666075a37
DTSTAMP:20260421T120435Z
DESCRIPTION:
DTSTART;TZID=America/Chicago:20250806T050000
DTEND;TZID=America/Chicago:20250829T050001
LOCATION:
SUMMARY:Construction of Houses #36 and #37 Continues in August
END:VEVENT
END:VCALENDAR
