BEGIN:VCALENDAR
VERSION:2.0
PRODID:-//tahlequahhabitat.org//NONSGML kigkonsult.se iCalcreator 2.30.10//
CALSCALE:GREGORIAN
METHOD:PUBLISH
UID:9238a0d8-b47a-4f7f-beaa-1020ee416bd9
X-WR-CALDESC:
X-WR-RELCALID:5a03fd969ca5ccee5c2b5c432bfecd4c
X-WR-TIMEZONE:America/Chicago
BEGIN:VTIMEZONE
TZID:America/Chicago
BEGIN:STANDARD
TZNAME:CST
DTSTART:20241103T020000
TZOFFSETFROM:-0500
TZOFFSETTO:-0600
RDATE:20251102T020000
RDATE:20261101T020000
END:STANDARD
BEGIN:DAYLIGHT
TZNAME:CDT
DTSTART:20250309T020000
TZOFFSETFROM:-0600
TZOFFSETTO:-0500
RDATE:20260308T020000
END:DAYLIGHT
END:VTIMEZONE
BEGIN:VEVENT
UID:0e42039c-44ae-4096-897b-57caac374b44
DTSTAMP:20260421T121657Z
DESCRIPTION:
DTSTART;TZID=America/Chicago:20250830T050000
DTEND;TZID=America/Chicago:20250830T050001
LOCATION:
SUMMARY:Labor Day Weekend Sale at the Rack Clothing Store
END:VEVENT
END:VCALENDAR
