BEGIN:VCALENDAR
VERSION:2.0
PRODID:-//tahlequahhabitat.org//NONSGML kigkonsult.se iCalcreator 2.30.10//
CALSCALE:GREGORIAN
METHOD:PUBLISH
UID:06bb0a89-5601-43fb-a7d2-abf8ba0bdc89
X-WR-CALDESC:
X-WR-RELCALID:e283abefb175bc4c822ddc039612c42c
X-WR-TIMEZONE:America/Chicago
BEGIN:VTIMEZONE
TZID:America/Chicago
BEGIN:STANDARD
TZNAME:CST
DTSTART:20241103T020000
TZOFFSETFROM:-0500
TZOFFSETTO:-0600
RDATE:20251102T020000
RDATE:20261101T020000
END:STANDARD
BEGIN:DAYLIGHT
TZNAME:CDT
DTSTART:20250309T020000
TZOFFSETFROM:-0600
TZOFFSETTO:-0500
RDATE:20260308T020000
END:DAYLIGHT
END:VTIMEZONE
BEGIN:VEVENT
UID:7a3655a5-67bf-4213-bc9f-c4cc3c8093a1
DTSTAMP:20260421T103100Z
DESCRIPTION:
DTSTART;TZID=America/Chicago:20250901T050000
DTEND;TZID=America/Chicago:20250901T050001
LOCATION:
SUMMARY:Office and Stores Closed Today for Labor Day
END:VEVENT
END:VCALENDAR
