BEGIN:VCALENDAR
VERSION:2.0
PRODID:-//tahlequahhabitat.org//NONSGML kigkonsult.se iCalcreator 2.30.10//
CALSCALE:GREGORIAN
METHOD:PUBLISH
UID:b582aa36-814e-4995-99bf-c468dd452688
X-WR-CALDESC:
X-WR-RELCALID:e93bba68565b4a041de3f8d06cbd0089
X-WR-TIMEZONE:America/Chicago
BEGIN:VTIMEZONE
TZID:America/Chicago
BEGIN:STANDARD
TZNAME:CST
DTSTART:20241103T020000
TZOFFSETFROM:-0500
TZOFFSETTO:-0600
RDATE:20251102T020000
RDATE:20261101T020000
END:STANDARD
BEGIN:DAYLIGHT
TZNAME:CDT
DTSTART:20250309T020000
TZOFFSETFROM:-0600
TZOFFSETTO:-0500
RDATE:20260308T020000
RDATE:20270314T020000
END:DAYLIGHT
END:VTIMEZONE
BEGIN:VEVENT
UID:776a49e4-6495-4d20-ae65-4158d7757a2d
DTSTAMP:20260421T102821Z
DESCRIPTION:
DTSTART;TZID=America/Chicago:20251001T050000
DTEND;TZID=America/Chicago:20251001T050001
LOCATION:
SUMMARY:Construction of House #38 Begins Today
END:VEVENT
END:VCALENDAR
