BEGIN:VCALENDAR
VERSION:2.0
PRODID:-//tahlequahhabitat.org//NONSGML kigkonsult.se iCalcreator 2.30.10//
CALSCALE:GREGORIAN
METHOD:PUBLISH
UID:977df534-dc8d-4b96-b1b9-1a6db65bcc48
X-WR-CALDESC:
X-WR-RELCALID:11ee81d567465e21d80e8a2a1482daa2
X-WR-TIMEZONE:America/Chicago
BEGIN:VTIMEZONE
TZID:America/Chicago
BEGIN:STANDARD
TZNAME:CST
DTSTART:20241103T020000
TZOFFSETFROM:-0500
TZOFFSETTO:-0600
RDATE:20251102T020000
RDATE:20261101T020000
END:STANDARD
BEGIN:DAYLIGHT
TZNAME:CDT
DTSTART:20250309T020000
TZOFFSETFROM:-0600
TZOFFSETTO:-0500
RDATE:20260308T020000
RDATE:20270314T020000
END:DAYLIGHT
END:VTIMEZONE
BEGIN:VEVENT
UID:3d2bafa4-cfdd-481d-b37e-7e55c31aafd5
DTSTAMP:20260421T102923Z
DESCRIPTION:
DTSTART;TZID=America/Chicago:20251017T090000
DTEND;TZID=America/Chicago:20251017T150000
LOCATION:
SUMMARY:Come-and-Go Craft Event at the ReStore
END:VEVENT
END:VCALENDAR
