BEGIN:VCALENDAR
VERSION:2.0
PRODID:-//tahlequahhabitat.org//NONSGML kigkonsult.se iCalcreator 2.30.10//
CALSCALE:GREGORIAN
METHOD:PUBLISH
UID:afae43c1-791d-4eda-a97d-1c51ad1ced8c
X-WR-CALDESC:
X-WR-RELCALID:114125d2bf9991b833c10af7422f8686
X-WR-TIMEZONE:America/Chicago
BEGIN:VTIMEZONE
TZID:America/Chicago
BEGIN:STANDARD
TZNAME:CST
DTSTART:20241103T020000
TZOFFSETFROM:-0500
TZOFFSETTO:-0600
RDATE:20251102T020000
RDATE:20261101T020000
END:STANDARD
BEGIN:DAYLIGHT
TZNAME:CDT
DTSTART:20250309T020000
TZOFFSETFROM:-0600
TZOFFSETTO:-0500
RDATE:20260308T020000
RDATE:20270314T020000
END:DAYLIGHT
END:VTIMEZONE
BEGIN:VEVENT
UID:ebf8cedc-9208-4f04-a876-2348819e7380
DTSTAMP:20260421T085520Z
DESCRIPTION:
DTSTART;TZID=America/Chicago:20251028T050000
DTEND;TZID=America/Chicago:20251031T050001
LOCATION:
SUMMARY:Half Off All Halloween Items at the Rack Clothing Store
END:VEVENT
END:VCALENDAR
