BEGIN:VCALENDAR
VERSION:2.0
PRODID:-//tahlequahhabitat.org//NONSGML kigkonsult.se iCalcreator 2.30.10//
CALSCALE:GREGORIAN
METHOD:PUBLISH
UID:cbf12b30-8e1f-4295-a893-124f4f306c6b
X-WR-CALDESC:
X-WR-RELCALID:228ee7202228825c262e3316a169187a
X-WR-TIMEZONE:America/Chicago
BEGIN:VTIMEZONE
TZID:America/Chicago
BEGIN:STANDARD
TZNAME:CST
DTSTART:20251102T020000
TZOFFSETFROM:-0500
TZOFFSETTO:-0600
RDATE:20261101T020000
END:STANDARD
BEGIN:DAYLIGHT
TZNAME:CDT
DTSTART:20250309T020000
TZOFFSETFROM:-0600
TZOFFSETTO:-0500
RDATE:20260308T020000
RDATE:20270314T020000
END:DAYLIGHT
END:VTIMEZONE
BEGIN:VEVENT
UID:3c4b5330-b22b-45fd-a79a-552d41109e17
DTSTAMP:20260422T091630Z
DESCRIPTION:
DTSTART;TZID=America/Chicago:20251110T050000
DTEND;TZID=America/Chicago:20251115T050001
LOCATION:
SUMMARY:Half Off at the Rack Clothing Store
END:VEVENT
END:VCALENDAR
