BEGIN:VCALENDAR
VERSION:2.0
PRODID:-//tahlequahhabitat.org//NONSGML kigkonsult.se iCalcreator 2.30.10//
CALSCALE:GREGORIAN
METHOD:PUBLISH
UID:5c65bcdd-40f5-4bad-a1ec-29f7939d7489
X-WR-CALDESC:
X-WR-RELCALID:be1b39669a2ee9737ca4777bfcb2a3a3
X-WR-TIMEZONE:America/Chicago
BEGIN:VTIMEZONE
TZID:America/Chicago
BEGIN:STANDARD
TZNAME:CST
DTSTART:20251102T020000
TZOFFSETFROM:-0500
TZOFFSETTO:-0600
RDATE:20261101T020000
END:STANDARD
BEGIN:DAYLIGHT
TZNAME:CDT
DTSTART:20250309T020000
TZOFFSETFROM:-0600
TZOFFSETTO:-0500
RDATE:20260308T020000
RDATE:20270314T020000
END:DAYLIGHT
END:VTIMEZONE
BEGIN:VEVENT
UID:6d362605-0142-44d8-9f83-d371a5a5fdc3
DTSTAMP:20260421T084546Z
DESCRIPTION:
DTSTART;TZID=America/Chicago:20251211T050000
DTEND;TZID=America/Chicago:20251211T050001
LOCATION:
SUMMARY:Find the Elf Sale at the Rack
END:VEVENT
END:VCALENDAR
