BEGIN:VCALENDAR
VERSION:2.0
PRODID:-//tahlequahhabitat.org//NONSGML kigkonsult.se iCalcreator 2.30.10//
CALSCALE:GREGORIAN
METHOD:PUBLISH
UID:504e598b-b1bf-4f86-a4cd-259a32d3d6e8
X-WR-CALDESC:
X-WR-RELCALID:22a557f93070140b18b36cfabf381abd
X-WR-TIMEZONE:America/Chicago
BEGIN:VTIMEZONE
TZID:America/Chicago
BEGIN:STANDARD
TZNAME:CST
DTSTART:20251102T020000
TZOFFSETFROM:-0500
TZOFFSETTO:-0600
RDATE:20261101T020000
RDATE:20271107T020000
END:STANDARD
BEGIN:DAYLIGHT
TZNAME:CDT
DTSTART:20260308T020000
TZOFFSETFROM:-0600
TZOFFSETTO:-0500
RDATE:20270314T020000
END:DAYLIGHT
END:VTIMEZONE
BEGIN:VEVENT
UID:111fc131-36cc-4ffe-9dcc-e0bf0998aab8
DTSTAMP:20260421T015659Z
DESCRIPTION:
DTSTART;TZID=America/Chicago:20260523T050000
DTEND;TZID=America/Chicago:20260523T050001
LOCATION:
SUMMARY:Motorcycle Poker Run
END:VEVENT
END:VCALENDAR
